BEGIN:VCALENDAR
VERSION:2.0
PRODID:-// - ECPv6.15.20//NONSGML v1.0//EN
CALSCALE:GREGORIAN
METHOD:PUBLISH
X-ORIGINAL-URL:https://rctbowling.fr
X-WR-CALDESC:Évènements pour 
REFRESH-INTERVAL;VALUE=DURATION:PT1H
X-Robots-Tag:noindex
X-PUBLISHED-TTL:PT1H
BEGIN:VTIMEZONE
TZID:UTC
BEGIN:STANDARD
TZOFFSETFROM:+0000
TZOFFSETTO:+0000
TZNAME:UTC
DTSTART:20240101T000000
END:STANDARD
END:VTIMEZONE
BEGIN:VEVENT
DTSTART;TZID=UTC:20251213T090000
DTEND;TZID=UTC:20251214T140000
DTSTAMP:20260426T041754
CREATED:20251111T155814Z
LAST-MODIFIED:20251111T155814Z
UID:31284-1765616400-1765720800@rctbowling.fr
SUMMARY:CHAMPIONNAT DOUBLETTES SENIOR +
DESCRIPTION:CHAMPIONNATS DE FRANCE DOUBLETTE SENIOR+ 2026
URL:https://rctbowling.fr/event/championnat-doublettes-senior/
END:VEVENT
BEGIN:VEVENT
DTSTART;TZID=UTC:20251122T080000
DTEND;TZID=UTC:20251123T170000
DTSTAMP:20260426T041754
CREATED:20251018T085915Z
LAST-MODIFIED:20251102T153300Z
UID:825-1763798400-1763917200@rctbowling.fr
SUMMARY:CHALLENGE DOUBLE MIXTE
DESCRIPTION:
URL:https://rctbowling.fr/event/challenge-double-mixte/
END:VEVENT
BEGIN:VEVENT
DTSTART;TZID=UTC:20251115T090000
DTEND;TZID=UTC:20251116T140000
DTSTAMP:20260426T041754
CREATED:20251023T060952Z
LAST-MODIFIED:20251023T061804Z
UID:854-1763197200-1763301600@rctbowling.fr
SUMMARY:CHAMPIONNAT DES CLUBS REGIONAUX
DESCRIPTION:Pour plus de détails; cliquez sur le logo ci-dessous \n \n 
URL:https://rctbowling.fr/event/championnat-des-clubs-regionaux/
END:VEVENT
BEGIN:VEVENT
DTSTART;TZID=UTC:20251101T093000
DTEND;TZID=UTC:20251101T140000
DTSTAMP:20260426T041754
CREATED:20251018T090049Z
LAST-MODIFIED:20251018T090049Z
UID:827-1761989400-1762005600@rctbowling.fr
SUMMARY:SE DOUBLE MIXTE
DESCRIPTION:Samedi 01 novembre 2025 au bowling de Pertuis (84)\, début de la compétition à 09h30. \nLe quota de qualifiés en finale nationale vous sera communiqué ultérieurement.\nJe vous prie de trouver ci-joint le bulletin d’inscription à me retourner dans les meilleurs délais et en tout état de cause avant le 23 octobre : SE 2025 2026 Chpt France Eq2DM \nPour mémoire\, je vous rappelle que la Ligue Région Sud n’organisera pas cette année de phase régionale quadrettes Sport d’Entreprise\, du fait de l’absence totale de quadrettes SE susceptibles de s’engager dans notre région. \nUne nouvelle option est toutefois offerte aux licenciés de grandes entreprises d’envergure nationale (ex : SNCF\, LA POSTE….) qui peuvent participer avec des licenciés d’une autre région. L’article 2-G du règlement de la compétition prévoit cette disposition : \n« Chaque équipe peut intégrer 1 ou 2 licenciés maximum de la même entreprise mais d’une autre région administrative. Si tel est le cas\, la phase district ou régionale\, se jouera dans la région où s’inscrit l’équipe et de préférence celle avec le maximum de joueur(es) locaux. »
URL:https://rctbowling.fr/event/se-double-mixte/
END:VEVENT
BEGIN:VEVENT
DTSTART;TZID=UTC:20251018T080000
DTEND;TZID=UTC:20251018T170000
DTSTAMP:20260426T041754
CREATED:20251018T085547Z
LAST-MODIFIED:20251018T085547Z
UID:820-1760774400-1760806800@rctbowling.fr
SUMMARY:CHAMPIONNAT REGIONAL DES CLUBS J1
DESCRIPTION:
URL:https://rctbowling.fr/event/championnat-regional-des-clubs-j1/
END:VEVENT
BEGIN:VEVENT
DTSTART;TZID=UTC:20250621T080000
DTEND;TZID=UTC:20250622T170000
DTSTAMP:20260426T041754
CREATED:20250410T140148Z
LAST-MODIFIED:20250410T140148Z
UID:153-1750492800-1750611600@rctbowling.fr
SUMMARY:FINALE REG CHPT INDIVIDUEL EXCELLENCE & HONNEUR
DESCRIPTION:
URL:https://rctbowling.fr/event/finale-reg-chpt-individuel-excellence-honneur/
END:VEVENT
BEGIN:VEVENT
DTSTART;TZID=UTC:20250620T080000
DTEND;TZID=UTC:20250622T170000
DTSTAMP:20260426T041754
CREATED:20250410T140047Z
LAST-MODIFIED:20250410T140047Z
UID:151-1750406400-1750611600@rctbowling.fr
SUMMARY:FINALE NAT CHPT FRANCE DOUBLETTES & INDIVIDUEL
DESCRIPTION:
URL:https://rctbowling.fr/event/finale-nat-chpt-france-doublettes-individuel/
LOCATION:BOWLING\, ST MAXIMIN\, France
END:VEVENT
BEGIN:VEVENT
DTSTART;TZID=UTC:20250614T080000
DTEND;TZID=UTC:20250615T170000
DTSTAMP:20260426T041754
CREATED:20250410T135901Z
LAST-MODIFIED:20250410T135909Z
UID:146-1749888000-1750006800@rctbowling.fr
SUMMARY:FINALE NAT INDIVIDUEL SENIOR+
DESCRIPTION:
URL:https://rctbowling.fr/event/finale-nat-individual-senior/
LOCATION:BOWLING\, ST MAXIMIN\, France
END:VEVENT
BEGIN:VEVENT
DTSTART;TZID=UTC:20250612T080000
DTEND;TZID=UTC:20250613T170000
DTSTAMP:20260426T041754
CREATED:20250410T135952Z
LAST-MODIFIED:20250410T135952Z
UID:149-1749715200-1749834000@rctbowling.fr
SUMMARY:FINALE NAT DOUBLETTES SENIOR +
DESCRIPTION:
URL:https://rctbowling.fr/event/finale-nat-doublettes-senior/
LOCATION:BOWLING\, ST MAXIMIN\, France
END:VEVENT
BEGIN:VEVENT
DTSTART;TZID=UTC:20250524T080000
DTEND;TZID=UTC:20250525T170000
DTSTAMP:20260426T041754
CREATED:20250415T144856Z
LAST-MODIFIED:20250415T144856Z
UID:244-1748073600-1748192400@rctbowling.fr
SUMMARY:CHAMPIONNAT REGIONAL DES CLUBS
DESCRIPTION:CHAMPIONNAT DES CLUBS REGIONAUX
URL:https://rctbowling.fr/event/championnat-regional-des-clubs/
END:VEVENT
BEGIN:VEVENT
DTSTART;TZID=UTC:20250517T080000
DTEND;TZID=UTC:20250518T170000
DTSTAMP:20260426T041754
CREATED:20250415T144939Z
LAST-MODIFIED:20250415T144939Z
UID:246-1747468800-1747587600@rctbowling.fr
SUMMARY:CHAMPIONNAT NATIONAL DES CLUBS
DESCRIPTION:CHAMPIONNAT NATIONAL DES CLUBS
URL:https://rctbowling.fr/event/championnat-national-des-clubs/
END:VEVENT
END:VCALENDAR